BEGIN:VCALENDAR
VERSION:2.0
PRODID:-// - ECPv6.15.20//NONSGML v1.0//EN
CALSCALE:GREGORIAN
METHOD:PUBLISH
X-ORIGINAL-URL:https://mounttaborlodge.com
X-WR-CALDESC:Events for 
REFRESH-INTERVAL;VALUE=DURATION:PT1H
X-Robots-Tag:noindex
X-PUBLISHED-TTL:PT1H
BEGIN:VTIMEZONE
TZID:America/New_York
BEGIN:DAYLIGHT
TZOFFSETFROM:-0500
TZOFFSETTO:-0400
TZNAME:EDT
DTSTART:20250309T070000
END:DAYLIGHT
BEGIN:STANDARD
TZOFFSETFROM:-0400
TZOFFSETTO:-0500
TZNAME:EST
DTSTART:20251102T060000
END:STANDARD
BEGIN:DAYLIGHT
TZOFFSETFROM:-0500
TZOFFSETTO:-0400
TZNAME:EDT
DTSTART:20260308T070000
END:DAYLIGHT
BEGIN:STANDARD
TZOFFSETFROM:-0400
TZOFFSETTO:-0500
TZNAME:EST
DTSTART:20261101T060000
END:STANDARD
BEGIN:DAYLIGHT
TZOFFSETFROM:-0500
TZOFFSETTO:-0400
TZNAME:EDT
DTSTART:20270314T070000
END:DAYLIGHT
BEGIN:STANDARD
TZOFFSETFROM:-0400
TZOFFSETTO:-0500
TZNAME:EST
DTSTART:20271107T060000
END:STANDARD
END:VTIMEZONE
BEGIN:VEVENT
DTSTART;TZID=America/New_York:20260422T190000
DTEND;TZID=America/New_York:20260422T210000
DTSTAMP:20260420T134602
CREATED:20251006T181825Z
LAST-MODIFIED:20251006T181825Z
UID:4900-1776884400-1776891600@mounttaborlodge.com
SUMMARY:Mount Tabor Lodge Meeting
DESCRIPTION:
URL:https://mounttaborlodge.com/calendars/mount-tabor-lodge-meeting-7/
LOCATION:Mt Tabor\, 70 Topsfield Rd\, Ipswich\, MA\, 01938\, United States
CATEGORIES:Stated Communication
END:VEVENT
BEGIN:VEVENT
DTSTART;TZID=America/New_York:20260506T190000
DTEND;TZID=America/New_York:20260506T210000
DTSTAMP:20260420T134602
CREATED:20251006T180334Z
LAST-MODIFIED:20251006T180334Z
UID:4883-1778094000-1778101200@mounttaborlodge.com
SUMMARY:John T. Heard Lodge Meeting
DESCRIPTION:
URL:https://mounttaborlodge.com/calendars/john-t-heard-lodge-meeting-7/
LOCATION:JTH\, 70 Topsfield Rd\, Ipswich\, MA\, 01938\, United States
CATEGORIES:Stated Communication
END:VEVENT
BEGIN:VEVENT
DTSTART;TZID=America/New_York:20260507T183000
DTEND;TZID=America/New_York:20260507T200000
DTSTAMP:20260420T134603
CREATED:20251007T130532Z
LAST-MODIFIED:20251007T130532Z
UID:5042-1778178600-1778184000@mounttaborlodge.com
SUMMARY:MT.Tab Pract
DESCRIPTION:
URL:https://mounttaborlodge.com/calendars/mt-tab-pract-13/
LOCATION:Mt Tabor\, 70 Topsfield Rd\, Ipswich\, MA\, 01938\, United States
CATEGORIES:Practice
END:VEVENT
BEGIN:VEVENT
DTSTART;TZID=America/New_York:20260511T190000
DTEND;TZID=America/New_York:20260511T210000
DTSTAMP:20260420T134603
CREATED:20251006T185909Z
LAST-MODIFIED:20251006T185909Z
UID:4960-1778526000-1778533200@mounttaborlodge.com
SUMMARY:Liberty Lodge Meeting
DESCRIPTION:
URL:https://mounttaborlodge.com/calendars/liberty-lodge-meeting-8/
LOCATION:Liberty\, 10 Charnock Street\, Beverly\, MA\, 01915
CATEGORIES:Stated Communication
END:VEVENT
BEGIN:VEVENT
DTSTART;TZID=America/New_York:20260512T190000
DTEND;TZID=America/New_York:20260512T210000
DTSTAMP:20260420T134603
CREATED:20251006T184729Z
LAST-MODIFIED:20251006T184729Z
UID:4938-1778612400-1778619600@mounttaborlodge.com
SUMMARY:Tyrian-Ashler-Acacia Lodge Meeting
DESCRIPTION:
URL:https://mounttaborlodge.com/calendars/tyrian-ashler-acacia-lodge-meeting-8/
LOCATION:TAA\, 27 Eastern Avenue\, Gloucester\, MA\, 01931\, United States
CATEGORIES:Stated Communication
END:VEVENT
BEGIN:VEVENT
DTSTART;TZID=America/New_York:20260513T190000
DTEND;TZID=America/New_York:20260513T210000
DTSTAMP:20260420T134603
CREATED:20251006T190957Z
LAST-MODIFIED:20251006T190957Z
UID:4981-1778698800-1778706000@mounttaborlodge.com
SUMMARY:Manchester Lodge Meeting
DESCRIPTION:
URL:https://mounttaborlodge.com/calendars/manchester-lodge-meeting-8/
LOCATION:MA
CATEGORIES:Stated Communication
END:VEVENT
BEGIN:VEVENT
DTSTART;TZID=America/New_York:20260514T190000
DTEND;TZID=America/New_York:20260514T210000
DTSTAMP:20260420T134603
CREATED:20251006T192106Z
LAST-MODIFIED:20251006T192106Z
UID:4998-1778785200-1778792400@mounttaborlodge.com
SUMMARY:Budleigh Lodge Meeting
DESCRIPTION:
URL:https://mounttaborlodge.com/calendars/budleigh-lodge-meeting-9/
LOCATION:Budleigh\, 10 Charnock Street\, Beverly\, MA\, 01915\, United States
CATEGORIES:Stated Communication
END:VEVENT
BEGIN:VEVENT
DTSTART;TZID=America/New_York:20260521T183000
DTEND;TZID=America/New_York:20260521T200000
DTSTAMP:20260420T134603
CREATED:20251007T130620Z
LAST-MODIFIED:20251007T130620Z
UID:5044-1779388200-1779393600@mounttaborlodge.com
SUMMARY:MT.Tab Pract
DESCRIPTION:
URL:https://mounttaborlodge.com/calendars/mt-tab-pract-14/
LOCATION:Mt Tabor\, 70 Topsfield Rd\, Ipswich\, MA\, 01938\, United States
CATEGORIES:Practice
END:VEVENT
BEGIN:VEVENT
DTSTART;TZID=America/New_York:20260527T190000
DTEND;TZID=America/New_York:20260527T210000
DTSTAMP:20260420T134603
CREATED:20251006T182021Z
LAST-MODIFIED:20251006T182021Z
UID:4904-1779908400-1779915600@mounttaborlodge.com
SUMMARY:Mount Tabor Lodge Meeting
DESCRIPTION:
URL:https://mounttaborlodge.com/calendars/mount-tabor-lodge-meeting-9/
LOCATION:Mt Tabor\, 70 Topsfield Rd\, Ipswich\, MA\, 01938\, United States
CATEGORIES:Stated Communication
END:VEVENT
BEGIN:VEVENT
DTSTART;TZID=America/New_York:20260603T190000
DTEND;TZID=America/New_York:20260603T210000
DTSTAMP:20260420T134603
CREATED:20251006T180436Z
LAST-MODIFIED:20251006T180436Z
UID:4885-1780513200-1780520400@mounttaborlodge.com
SUMMARY:John T. Heard Lodge Meeting
DESCRIPTION:
URL:https://mounttaborlodge.com/calendars/john-t-heard-lodge-meeting-8/
LOCATION:MA
CATEGORIES:Stated Communication
END:VEVENT
BEGIN:VEVENT
DTSTART;TZID=America/New_York:20260604T183000
DTEND;TZID=America/New_York:20260604T200000
DTSTAMP:20260420T134603
CREATED:20251007T130714Z
LAST-MODIFIED:20251007T130714Z
UID:5046-1780597800-1780603200@mounttaborlodge.com
SUMMARY:MT.Tab Pract
DESCRIPTION:
URL:https://mounttaborlodge.com/calendars/mt-tab-pract-15/
LOCATION:Mt Tabor\, 70 Topsfield Rd\, Ipswich\, MA\, 01938\, United States
CATEGORIES:Practice
END:VEVENT
BEGIN:VEVENT
DTSTART;TZID=America/New_York:20260608T190000
DTEND;TZID=America/New_York:20260608T210000
DTSTAMP:20260420T134603
CREATED:20251006T185956Z
LAST-MODIFIED:20251006T185956Z
UID:4962-1780945200-1780952400@mounttaborlodge.com
SUMMARY:Liberty Lodge Meeting
DESCRIPTION:
URL:https://mounttaborlodge.com/calendars/liberty-lodge-meeting-9/
LOCATION:Liberty\, 10 Charnock Street\, Beverly\, MA\, 01915
CATEGORIES:Stated Communication
END:VEVENT
BEGIN:VEVENT
DTSTART;TZID=America/New_York:20260609T190000
DTEND;TZID=America/New_York:20260609T210000
DTSTAMP:20260420T134603
CREATED:20251006T184846Z
LAST-MODIFIED:20251006T184846Z
UID:4942-1781031600-1781038800@mounttaborlodge.com
SUMMARY:Tyrian-Ashler-Acacia Lodge Meeting
DESCRIPTION:
URL:https://mounttaborlodge.com/calendars/tyrian-ashler-acacia-lodge-meeting-10/
LOCATION:TAA\, 27 Eastern Avenue\, Gloucester\, MA\, 01931\, United States
CATEGORIES:Stated Communication
END:VEVENT
BEGIN:VEVENT
DTSTART;TZID=America/New_York:20260610T190000
DTEND;TZID=America/New_York:20260610T210000
DTSTAMP:20260420T134603
CREATED:20251006T191037Z
LAST-MODIFIED:20251006T191037Z
UID:4983-1781118000-1781125200@mounttaborlodge.com
SUMMARY:Manchester Lodge Meeting
DESCRIPTION:
URL:https://mounttaborlodge.com/calendars/manchester-lodge-meeting-9/
LOCATION:Manchester\, 10 Church St\, Manchester\, MA\, 01944\, United States
CATEGORIES:Stated Communication
END:VEVENT
BEGIN:VEVENT
DTSTART;TZID=America/New_York:20260611T190000
DTEND;TZID=America/New_York:20260611T210000
DTSTAMP:20260420T134603
CREATED:20251006T192143Z
LAST-MODIFIED:20251006T192143Z
UID:5000-1781204400-1781211600@mounttaborlodge.com
SUMMARY:Budleigh Lodge Meeting
DESCRIPTION:
URL:https://mounttaborlodge.com/calendars/budleigh-lodge-meeting-10/
LOCATION:Budleigh\, 10 Charnock Street\, Beverly\, MA\, 01915\, United States
CATEGORIES:Stated Communication
END:VEVENT
BEGIN:VEVENT
DTSTART;TZID=America/New_York:20260618T183000
DTEND;TZID=America/New_York:20260618T200000
DTSTAMP:20260420T134603
CREATED:20251007T130755Z
LAST-MODIFIED:20251007T130755Z
UID:5048-1781807400-1781812800@mounttaborlodge.com
SUMMARY:MT.Tab Pract
DESCRIPTION:
URL:https://mounttaborlodge.com/calendars/mt-tab-pract-16/
LOCATION:Mt Tabor\, 70 Topsfield Rd\, Ipswich\, MA\, 01938\, United States
CATEGORIES:Practice
END:VEVENT
END:VCALENDAR